BEGIN:VCALENDAR
VERSION:2.0
PRODID:-//渋谷美竹サロン | 渋谷駅徒歩3分の和風モダンな音楽サロン - ECPv6.3.7//NONSGML v1.0//EN
CALSCALE:GREGORIAN
METHOD:PUBLISH
X-WR-CALNAME:渋谷美竹サロン | 渋谷駅徒歩3分の和風モダンな音楽サロン
X-ORIGINAL-URL:https://mitakesayaka.com
X-WR-CALDESC:渋谷美竹サロン | 渋谷駅徒歩3分の和風モダンな音楽サロン のイベント
REFRESH-INTERVAL;VALUE=DURATION:PT1H
X-Robots-Tag:noindex
X-PUBLISHED-TTL:PT1H
BEGIN:VTIMEZONE
TZID:Asia/Tokyo
BEGIN:STANDARD
TZOFFSETFROM:+0900
TZOFFSETTO:+0900
TZNAME:JST
DTSTART:20200101T000000
END:STANDARD
END:VTIMEZONE
BEGIN:VEVENT
DTSTART;TZID=Asia/Tokyo:20201220T180000
DTEND;TZID=Asia/Tokyo:20201220T203000
DTSTAMP:20260424T071619
CREATED:20200415T042543Z
LAST-MODIFIED:20240414T030211Z
UID:10000484-1608487200-1608496200@mitakesayaka.com
SUMMARY:【第2夜】カルテット・サロンコンサート（尾崎 未空[Pf.]鈴木 舞[Vn.]尾池 亜美[Vn.\,Va.]伊東 裕[Vc.]）
DESCRIPTION:
URL:https://mitakesayaka.com/event/10000484/
CATEGORIES:主催コンサート
ATTACH;FMTTYPE=image/jpeg:https://mitakesayaka.com/wp-content/uploads/2024/02/concert_banner_20201219.jpg
END:VEVENT
BEGIN:VEVENT
DTSTART;TZID=Asia/Tokyo:20201226T150000
DTEND;TZID=Asia/Tokyo:20201226T180000
DTSTAMP:20260424T071619
CREATED:20200415T042826Z
LAST-MODIFIED:20240415T001006Z
UID:10000543-1608994800-1609005600@mitakesayaka.com
SUMMARY:ゴルトベルク変奏曲BWV988特別演奏会（ピアノ：佐藤彦大）
DESCRIPTION:
URL:https://mitakesayaka.com/event/10000543/
CATEGORIES:主催コンサート
ATTACH;FMTTYPE=image/jpeg:https://mitakesayaka.com/wp-content/uploads/2024/02/concert_banner_20201226.jpg
END:VEVENT
END:VCALENDAR